BEGIN:VCALENDAR
VERSION:2.0
PRODID:-//ChamberMaster//Event Calendar 2.0//EN
METHOD:PUBLISH
X-PUBLISHED-TTL:P3D
REFRESH-INTERVAL:P3D
CALSCALE:GREGORIAN
BEGIN:VEVENT
DTSTART:20201025T170000Z
DTEND:20201025T200000Z
X-MICROSOFT-CDO-ALLDAYEVENT:FALSE
SUMMARY:12th Annual Strike Out Breast Cancer
DESCRIPTION:Join us on Sunday\, October 25th\, 1:00 PM for the 12th Annual Strike Out Breast Cancer. Support our cause of bringing teams together to find a cure for cancer by purchasing a lane!\n\nThe event will be hosted at Boardwalk Bowl\, and feature a fun day of bowling\, a lunch buffet\, drinks\, and an amazing silent auction. Don't miss out! Be sure to register your team early\, as the event sells out every year.\n\nStriker Lane - $500\n\n\n	5 Bowlers\, 2 Games of Bowling\n	Shoe Rental\n	Event T-Shirt\n	Bubbalou's BBQ and Soft Drinks\n	Silent Auction\n	Cash Bar\n\n\n"300 Club" Lane - $1\,000\n\nAll Items in "Striker" plus:\n\n\n	1 VIP Gift Bag per Person\n	T-Shirt and Website recognition\n	Bowling Lane Signage\n	Open Beer Bar\n\n\nIf you have any questions about Strike Out Breast Cancer or would like to register a team via check\, please call the Orlando Sports Foundation offices at 407-235-3925 or email Matt Stover at mstover@theosf.com
X-ALT-DESC;FMTTYPE=text/html:<p>Join us on Sunday\, October 25th\, 1:00 PM<strong> </strong>for the <strong>12th Annual Strike Out Breast Cancer</strong>. Support our cause of bringing teams together to find a cure for cancer by purchasing a lane!</p>\n\n<p>The event will be hosted at Boardwalk Bowl\, and feature a fun day of bowling\, a lunch buffet\, drinks\, and an amazing silent auction. Don&#39\;t miss out! Be sure to register your team early\, as the event sells out every year.</p>\n\n<h3>Striker Lane - $500</h3>\n\n<ul>\n	<li>5 Bowlers\, 2 Games of Bowling</li>\n	<li>Shoe Rental</li>\n	<li>Event T-Shirt</li>\n	<li>Bubbalou&#39\;s BBQ and Soft Drinks</li>\n	<li>Silent Auction</li>\n	<li>Cash Bar</li>\n</ul>\n\n<h3>&quot\;300 Club&quot\; Lane - $1\,000</h3>\n\n<p>All Items in &quot\;Striker&quot\; plus:</p>\n\n<ul>\n	<li>1 VIP Gift Bag per Person</li>\n	<li>T-Shirt and Website recognition</li>\n	<li>Bowling Lane Signage</li>\n	<li>Open Beer Bar</li>\n</ul>\n\n<p>If you have any questions about Strike Out Breast Cancer or would like to register a team via check\, please call the Orlando Sports Foundation offices at 407-235-3925 or email Matt Stover at mstover@theosf.com</p>\n\n<p>&nbsp\;</p>\n
LOCATION:Boardwalk Bowl Entertainment Center 10749 East Colonial Drive\, Orlando\, FL\, 32817
UID:e.2008.12719
SEQUENCE:3
DTSTAMP:20260421T191004Z
URL:https://business.eocc.org/events/details/12th-annual-strike-out-breast-cancer-12719
END:VEVENT

END:VCALENDAR
