BEGIN:VCALENDAR
VERSION:2.0
PRODID:-//ChamberMaster//Event Calendar 2.0//EN
METHOD:PUBLISH
X-PUBLISHED-TTL:P3D
REFRESH-INTERVAL:P3D
CALSCALE:GREGORIAN
BEGIN:VEVENT
DTSTART:20200828T160000Z
DTEND:20200828T180000Z
X-MICROSOFT-CDO-ALLDAYEVENT:FALSE
SUMMARY:2020 Kickoff to Cure: President's Luncheon
DESCRIPTION:The Orlando Sports Foundation is excited to announce the second annual Kickoff to Cure: President's Luncheon! Come help us celebrate the start of the 2020 college football season on Friday\, August 28th\, 12:00 pm at the Historic Taproom at Dubsdread. The event will include a catered lunch\, and guest speakers from the college football world.\n\nThis year's featured guest speaker is local sports radio personality and play-by-play voice of the UCF Knights\, Marc Daniels. With his 30+ years of experience broadcasting games\, Marc always brings a wealth of knowledge / unique perspective on college football\, and we are very excited to have him join us!\n\nTables are available today   don't wait to purchase as this event will sell out. Table Sponsorship is $500\, and includes the following:\n\n\n	A private table with 10 seats\n	Catered lunch provided by the Taproom at Dubsdread\n	Recognition as a sponsor of the event\n\n\nTo purchase your table please contact Matt Stover (mstover@theosf.com or 407-235-3925) or purchase online here.
X-ALT-DESC;FMTTYPE=text/html:<p>The Orlando Sports Foundation is excited to announce the second annual Kickoff to Cure: President&rsquo\;s Luncheon! Come help us celebrate the start of the 2020 college football season on Friday\, August 28th\, 12:00 pm at the Historic Taproom at Dubsdread. The event will include a catered lunch\, and guest speakers from the college football world.</p>\n\n<p>This year&#39\;s featured guest speaker is local sports radio personality and <strong>play-by-play voice of the UCF Knights\, Marc Daniels</strong>. With his 30+ years of experience broadcasting games\, Marc always brings a wealth of knowledge / unique perspective on college football\, and we are very excited to have him join us!</p>\n\n<p>Tables are available today &ndash\; don&rsquo\;t wait to purchase as this event will sell out. Table Sponsorship is $500\, and includes the following:</p>\n\n<ul>\n	<li>A private table with 10 seats</li>\n	<li>Catered lunch provided by the Taproom at Dubsdread</li>\n	<li>Recognition as a sponsor of the event</li>\n</ul>\n\n<p>To purchase your table please contact Matt Stover (mstover@theosf.com or 407-235-3925) or purchase online here.</p>\n
LOCATION:The Historic Dubsdread Ballroom 549 West Par Street\, Orlando\, FL\, 32804
UID:e.2008.12720
SEQUENCE:3
DTSTAMP:20260422T004952Z
URL:https://business.eocc.org/events/details/2020-kickoff-to-cure-president-s-luncheon-12720
END:VEVENT

END:VCALENDAR
