BEGIN:VCALENDAR
VERSION:2.0
PRODID:-//ChamberMaster//Event Calendar 2.0//EN
METHOD:PUBLISH
X-PUBLISHED-TTL:P3D
REFRESH-INTERVAL:P3D
CALSCALE:GREGORIAN
BEGIN:VEVENT
DTSTART:20180522T213000Z
DTEND:20180522T233000Z
X-MICROSOFT-CDO-ALLDAYEVENT:FALSE
SUMMARY:Activcore Yoga with Aromatherapy! Tuesdays with Tina!
DESCRIPTION:Essential Oils Class Followed by Yoga with Aromatherpy
X-ALT-DESC;FMTTYPE=text/html:Essential Oils Class Followed by Yoga with Aromatherpy
LOCATION:10920 Moss Park Rd Suite 212 Orlando\, fl 32832 (In Activcore)
UID:e.2008.9818
SEQUENCE:3
DTSTAMP:20260424T203600Z
URL:https://business.eocc.org/events/details/activcore-yoga-with-aromatherapy-tuesdays-with-tina-9818
END:VEVENT

END:VCALENDAR
