BEGIN:VCALENDAR
VERSION:2.0
PRODID:-//ChamberMaster//Event Calendar 2.0//EN
METHOD:PUBLISH
X-PUBLISHED-TTL:P3D
REFRESH-INTERVAL:P3D
CALSCALE:GREGORIAN
BEGIN:VEVENT
DTSTART:20200813T123000Z
DTEND:20200813T133000Z
X-MICROSOFT-CDO-ALLDAYEVENT:FALSE
SUMMARY:AdventHealth Morning Briefing - Back-to-School Wellness and COVID-19
DESCRIPTION:AdventHealth Morning Briefing   Back-to-school wellness and COVID-19 - Facebook Live Event\n\n\n\nThis week on AdventHealth Morning Briefing  We're live with Dr. Michael Keating\, chief medical officer at AdventHealth for Children\, and Dr. Angela Fals\, medical director of the weight and wellness program at AdventHealth for Children.\n\n\n\nTogether we'll address your questions about returning to schools during the COVID-19 pandemic\, and talk about health and wellness for children at this challenging time.
X-ALT-DESC;FMTTYPE=text/html:<strong>AdventHealth Morning Briefing &ndash\; Back-to-school wellness and COVID-19 - Facebook Live Event</strong><br />\n<br />\nThis week on AdventHealth Morning Briefing&hellip\; We&rsquo\;re live with<strong> Dr. Michael Keating</strong>\, chief medical officer at AdventHealth for Children\, and&nbsp\;<strong>Dr. Angela Fals</strong>\, medical director of the weight and wellness program at AdventHealth for Children.<br />\n<br />\nTogether we&rsquo\;ll address your questions about returning to schools during the COVID-19 pandemic\, and talk about health and wellness for children at this challenging time.&nbsp\;
LOCATION:Facebook Live Event https://www.facebook.com/LifeAtAdventHealthCFL/
UID:e.2008.12837
SEQUENCE:3
DTSTAMP:20260422T005139Z
URL:https://business.eocc.org/events/details/adventhealth-morning-briefing-back-to-school-wellness-and-covid-19-12837
END:VEVENT

END:VCALENDAR
