BEGIN:VCALENDAR
VERSION:2.0
PRODID:-//ChamberMaster//Event Calendar 2.0//EN
METHOD:PUBLISH
X-PUBLISHED-TTL:P3D
REFRESH-INTERVAL:P3D
CALSCALE:GREGORIAN
BEGIN:VEVENT
DTSTART:20160520T220000Z
DTEND:20160522T010000Z
X-MICROSOFT-CDO-ALLDAYEVENT:FALSE
SUMMARY:AT&T Mobile App & IoT Hackathon @ Catalyst
DESCRIPTION:*Register for this event on Eventbrite! http://attorlando16.eventbrite.com/?aff=eocc Keep your Earth Day celebration going by joining us for a special Sustainability-focused Mobile App & IoT Hackathon! Come together with your fellow technologists to build a project that supports sustainability goals like\, renewable resources\, energy consumption and the Earth Day 2016 theme\, Trees for the Earth. You Bring... Your laptop\, skills & ideas. Come with a collaborative\, team focused mindset and/or team up in advance on Twitter/Facebook/Google+ via the #atthack hashtag. We Supply? Food to keep you going\, caffeine to keep you awake and loaner hardware for you to use in your hacks.   Arduino Boards: Sunfounder Super Kit with Uno R3 for Arduino   RobotLinking 37 Sensor Kit   Intel Edison + Grove - Starter Kit Plus Intel IoT Edition   CanaKit Raspberry Pi 2 Complete Starter Kit (Monitor and keyboard not included)   Raspberry Pi 2\, Model B 1GB (Monitor and keyboard not included)   Photon Board Maker Kit Register now: http://attorlando16.eventbrite.com/?aff=eocc
X-ALT-DESC;FMTTYPE=text/html:*Register for this event on Eventbrite!&nbsp\;http://attorlando16.eventbrite.com/?aff=eocc Keep your Earth Day celebration going by joining us for a special Sustainability-focused Mobile App &amp\; IoT Hackathon! Come together with your fellow technologists to build a project that supports sustainability goals like\, renewable resources\, energy consumption and the Earth Day 2016 theme\, Trees for the Earth. You Bring... Your laptop\, skills &amp\; ideas. Come with a collaborative\, team focused mindset and/or team up in advance on Twitter/Facebook/Google+ via the #atthack hashtag. We Supply? Food to keep you going\, caffeine to keep you awake and loaner hardware for you to use in your hacks. &middot\; Arduino Boards:&nbsp\;Sunfounder Super Kit with Uno R3 for Arduino &middot\; RobotLinking 37 Sensor Kit &middot\; Intel Edison +&nbsp\;Grove - Starter Kit Plus Intel IoT Edition &middot\; CanaKit Raspberry Pi 2 Complete Starter Kit&nbsp\;(Monitor and keyboard not included) &middot\; Raspberry Pi 2\, Model B 1GB&nbsp\;(Monitor and keyboard not included) &middot\; Photon Board Maker Kit Register now: http://attorlando16.eventbrite.com/?aff=eocc
LOCATION:Catalyst 1 South Orange Ave 5th Floor Orlando\, FL 32801
UID:e.2008.5007
SEQUENCE:3
DTSTAMP:20260426T001401Z
URL:https://business.eocc.org/events/details/at-t-mobile-app-iot-hackathon-catalyst-05-20-2016-5007
END:VEVENT

END:VCALENDAR
