BEGIN:VCALENDAR
VERSION:2.0
PRODID:-//ChamberMaster//Event Calendar 2.0//EN
METHOD:PUBLISH
X-PUBLISHED-TTL:P3D
REFRESH-INTERVAL:P3D
CALSCALE:GREGORIAN
BEGIN:VEVENT
DTSTART:20160730T140000Z
DTEND:20160730T170000Z
X-MICROSOFT-CDO-ALLDAYEVENT:FALSE
SUMMARY:Baby Squirrel Shower
DESCRIPTION:Come visit Back to Nature and join us for animal encounters\, market and food vendors\, kids activities\, raffle drawings\, and more!
X-ALT-DESC;FMTTYPE=text/html:Come visit Back to Nature and join us for animal encounters\, market and food vendors\, kids activities\, raffle drawings\, and more!
LOCATION:Back to Nature Wildlife Refuge - 10525 Clapp Simms Duda Rd. Orlando\, FL 32832
UID:e.2008.5205
SEQUENCE:3
DTSTAMP:20260425T213141Z
URL:https://business.eocc.org/events/details/baby-squirrel-shower-07-30-2016-5205
END:VEVENT

END:VCALENDAR
