BEGIN:VCALENDAR
VERSION:2.0
PRODID:-//ChamberMaster//Event Calendar 2.0//EN
METHOD:PUBLISH
X-PUBLISHED-TTL:P3D
REFRESH-INTERVAL:P3D
CALSCALE:GREGORIAN
BEGIN:VEVENT
DTSTART:20210729T210000Z
DTEND:20210730T000000Z
X-MICROSOFT-CDO-ALLDAYEVENT:FALSE
SUMMARY:Back to School Drive & Job Fair
DESCRIPTION:Meet local businesses and enjoy cooking demonstrations and FREE treats!\n\nJob Fair for candidates and employers to connect for full-time and part-time hiring needs. \n\nCommunity event open to the public. FREE with donation of school supplies.
X-ALT-DESC;FMTTYPE=text/html:<span style="color:rgb(100\, 100\, 100)">Meet local businesses and enjoy cooking demonstrations and </span><strong>FREE </strong><span style="color:rgb(100\, 100\, 100)">treats!<br />\nJob Fair for candidates and employers to connect for full-time and part-time hiring needs.&nbsp\;<br />\nCommunity event open to the public. </span><strong>FREE </strong><span style="color:rgb(100\, 100\, 100)">with donation of school supplies.</span>
LOCATION:Keiser University Orlando Campus 5600 Lake Underhill Rd Orlando\, FL 32807
UID:e.2008.13470
SEQUENCE:3
DTSTAMP:20260420T124726Z
URL:https://business.eocc.org/events/details/back-to-school-drive-job-fair-13470
END:VEVENT

END:VCALENDAR
