BEGIN:VCALENDAR
VERSION:2.0
PRODID:-//ChamberMaster//Event Calendar 2.0//EN
METHOD:PUBLISH
X-PUBLISHED-TTL:P3D
REFRESH-INTERVAL:P3D
CALSCALE:GREGORIAN
BEGIN:VEVENT
DTSTART:20210723T213000Z
DTEND:20210723T230000Z
X-MICROSOFT-CDO-ALLDAYEVENT:FALSE
SUMMARY:Barakat Insurance Ribbon Cutting & Grand Opening
DESCRIPTION:Join us to celebrate the Grand Opening & Ribbon Cutting of \n\nBarakat Insurance's NEW Location
X-ALT-DESC;FMTTYPE=text/html:Join us to celebrate the Grand Opening &amp\; Ribbon Cutting of&nbsp\;<br />\nBarakat Insurance&#39\;s NEW Location
LOCATION:Barakat Insurance 7618 Sun Vista Way Orlando\, FL 32822
UID:e.2008.13456
SEQUENCE:3
DTSTAMP:20260420T125050Z
URL:https://business.eocc.org/events/details/barakat-insurance-ribbon-cutting-grand-opening-13456
END:VEVENT

END:VCALENDAR
