BEGIN:VCALENDAR
VERSION:2.0
PRODID:-//ChamberMaster//Event Calendar 2.0//EN
METHOD:PUBLISH
X-PUBLISHED-TTL:P3D
REFRESH-INTERVAL:P3D
CALSCALE:GREGORIAN
BEGIN:VEVENT
DTSTART:20161108T170000Z
DTEND:20161108T180000Z
X-MICROSOFT-CDO-ALLDAYEVENT:FALSE
SUMMARY:Boosting Brain Health Lunch & Learn
DESCRIPTION:Join your Florida Blue Neighborhood Nurses for this Lunch & Learn where we will discuss how the brain learns and thrives and the five critical domains of brain health! Complimentary lunch provided\, please RSVP!
X-ALT-DESC;FMTTYPE=text/html:Join your Florida Blue Neighborhood Nurses for this Lunch &amp\; Learn where we will discuss how the brain learns and thrives and the five critical domains of brain health! Complimentary lunch provided\, please RSVP!
LOCATION:Florida Blue Center 434 N. Orlando Ave. Winter Park\, FL 32789
UID:e.2008.5367
SEQUENCE:3
DTSTAMP:20260425T162147Z
URL:https://business.eocc.org/events/details/boosting-brain-health-lunch-learn-5367
END:VEVENT

END:VCALENDAR
