BEGIN:VCALENDAR
VERSION:2.0
PRODID:-//ChamberMaster//Event Calendar 2.0//EN
METHOD:PUBLISH
X-PUBLISHED-TTL:P3D
REFRESH-INTERVAL:P3D
CALSCALE:GREGORIAN
BEGIN:VEVENT
DTSTART:20180908T220000Z
DTEND:20180909T030000Z
X-MICROSOFT-CDO-ALLDAYEVENT:FALSE
SUMMARY:Camaraderie Foundation- American Patriot Gala
DESCRIPTION:Join us for a one-of-a-kind evening featuring a cocktail reception\, live auction and entertainment. \n\n\n\nThis year's keynote speaker is Keni Thomas\, Country Music Artist  and Former member of Task Force Ranger in Mogadishu\, Somalia\, who was deployed to capture criminal warlord Mohammad Farrah Aidid. \n\n\n\nTheir mission inspired the highly successful book and movie Black Hawk Down. You do not want to miss this exciting evening in tribute to the Military Service Members who have so honorably served our country since 9/11.
X-ALT-DESC;FMTTYPE=text/html:Join us for a one-of-a-kind evening featuring a cocktail reception\, live auction and entertainment.&nbsp\;<br />\n<br />\nThis year&#39\;s keynote speaker is Keni Thomas\, Country Music Artist&nbsp\; and Former member of Task Force Ranger in Mogadishu\, Somalia\, who was deployed to capture criminal warlord Mohammad Farrah Aidid.&nbsp\;<br />\n<br />\nTheir mission inspired the highly successful book and movie <em>Black Hawk Down.&nbsp\;</em>You do not want to miss this exciting evening in tribute to the Military Service Members who have so honorably served our country since 9/11.
LOCATION:Hyatt Regency Orlando 9802 International Drive Orlando\, FL 32819
UID:e.2008.9935
SEQUENCE:3
DTSTAMP:20260424T162120Z
URL:https://business.eocc.org/events/details/camaraderie-foundation-american-patriot-gala-9935
END:VEVENT

END:VCALENDAR
