BEGIN:VCALENDAR
VERSION:2.0
PRODID:-//ChamberMaster//Event Calendar 2.0//EN
METHOD:PUBLISH
X-PUBLISHED-TTL:P3D
REFRESH-INTERVAL:P3D
CALSCALE:GREGORIAN
BEGIN:VEVENT
DTSTART:20200318T153000Z
DTEND:20200318T170000Z
X-MICROSOFT-CDO-ALLDAYEVENT:FALSE
SUMMARY:CANCELLED: Chamber Luncheon: "Innovations & Trends of the Coworking Spaces Revolution in Business" Panel
DESCRIPTION:THIS EVENT IS CANCELLED IN COMPLIANCE WITH THE CDC'S CURRENT RECOMMENDATIONS.\n\n\n\nThe Coworking Spaces Revolution is driven by the need for affordable and flexible workspace that benefit both the business and employees.  With the rise in freelancers and remote workers in the American workforce\, the shift will continue to play a prominent role in how and where we work.  Join us as our panel of experts discuss the shift in the Central Florida area and the unique option available for businesses of all sizes.
X-ALT-DESC;FMTTYPE=text/html:<span style="box-sizing: border-box\; font-weight: bolder\; outline: 0px\; color: rgb(255\, 0\, 0)\; font-family: Raleway\, sans-serif\; font-size: 16px\; background-color: rgb(243\, 243\, 243)\;">THIS EVENT IS CANCELLED IN COMPLIANCE WITH THE CDC&#39\;S CURRENT RECOMMENDATIONS.</span><br />\n<br />\nThe Coworking Spaces Revolution is driven by the need for affordable and flexible workspace that benefit both the business and employees.&nbsp\; With the rise in freelancers and remote workers in the American workforce\, the shift will continue to play a prominent role in how and where we work.&nbsp\; Join us as our panel of experts discuss the shift in the Central Florida area and the unique option available for businesses of all sizes.&nbsp\;&nbsp\;
LOCATION:Avalon Park Community Center 13401 Tanja King Blvd. Orlando\, FL 32828
UID:e.2008.11261
SEQUENCE:3
DTSTAMP:20260422T182948Z
URL:https://business.eocc.org/events/details/cancelled-chamber-luncheon-innovations-trends-of-the-coworking-spaces-revolution-in-business-panel-11261
END:VEVENT

END:VCALENDAR
