BEGIN:VCALENDAR
VERSION:2.0
PRODID:-//ChamberMaster//Event Calendar 2.0//EN
METHOD:PUBLISH
X-PUBLISHED-TTL:P3D
REFRESH-INTERVAL:P3D
CALSCALE:GREGORIAN
BEGIN:VEVENT
DTSTART:20200506T153000Z
DTEND:20200506T170000Z
X-MICROSOFT-CDO-ALLDAYEVENT:FALSE
SUMMARY:CANCELLED: W.I.S.E. (Women in Successful Endeavors) Business Women Networking Brunch
DESCRIPTION:THIS EVENT IS CANCELLED IN COMPLIANCE WITH THE CDC'S CURRENT RECOMMENDATIONS.\n\nW.I.S.E. (Women in Successful Endeavors) is Women supporting Women quarterly networking brunch focused on guiding members to improve confidence\, self-esteem\, building relationships\, cultivate determination and elevate potential.  \n\n\n\nJoin us to enjoy a unique bunch experience and timely topics to help with your personal and professional development.
X-ALT-DESC;FMTTYPE=text/html:<span style="box-sizing: border-box\; font-weight: bolder\; outline: 0px\; color: rgb(255\, 0\, 0)\; font-family: Raleway\, sans-serif\; font-size: 16px\; background-color: rgb(243\, 243\, 243)\;">THIS EVENT IS CANCELLED IN COMPLIANCE WITH THE CDC&#39\;S CURRENT RECOMMENDATIONS.</span><br />\nW.I.S.E. (Women in Successful Endeavors) is Women supporting Women quarterly networking brunch focused on guiding members to improve confidence\, self-esteem\, building relationships\, cultivate determination and elevate potential.&nbsp\;&nbsp\;<br />\n<br />\nJoin us to enjoy a unique bunch experience and timely topics to help with your personal and professional development.&nbsp\;&nbsp\;
LOCATION:The Lemon Lily Tea Room 1954 W State Road 426\, Ste. 1106 Oviedo\, FL 32765
UID:e.2008.11051
SEQUENCE:3
DTSTAMP:20260422T150101Z
URL:https://business.eocc.org/events/details/cancelled-w-i-s-e-women-in-successful-endeavors-business-women-networking-brunch-11051
END:VEVENT

END:VCALENDAR
