BEGIN:VCALENDAR
VERSION:2.0
PRODID:-//ChamberMaster//Event Calendar 2.0//EN
METHOD:PUBLISH
X-PUBLISHED-TTL:P3D
REFRESH-INTERVAL:P3D
CALSCALE:GREGORIAN
BEGIN:VEVENT
DTSTART:20180303T120000Z
DTEND:20180303T160000Z
X-MICROSOFT-CDO-ALLDAYEVENT:FALSE
SUMMARY:Central Florida Children's Home Spring Fever 5K&10K Run and Walk
DESCRIPTION:10th Annual Spring Fever It's For the Kids 5K/10K Run/Walk will benefit the Central Florida Children's Home.\n\nThe Central Florida Children's Home is a non-profit 501(c)3 faith-based home providing food\, shelter\, clothing\, education\, spiritual guidance and athletic participation to children whose parents cannot or will not provide for their needs. \n\nSince 1973 the 'Home' has cared for up to 24 such boys and girls ages 2-18 years old.
X-ALT-DESC;FMTTYPE=text/html:<span style="font-family:arial\,sans-serif"><span style="font-size:9.0pt">&nbsp\;<strong><a href="http://cfch.net/springfever/">10th Annual Spring Fever It&rsquo\;s For the Kids 5K/10K Run/Walk</a> </strong>will benefit the Central Florida Children&rsquo\;s Home.<br />\nThe Central Florida Children&rsquo\;s Home is a non-profit 501(c)3 faith-based home providing food\, shelter\, clothing\, education\, spiritual guidance and athletic participation to children whose parents cannot or will not provide for their needs.&nbsp\;<br />\nSince 1973 the &lsquo\;Home&rsquo\; has cared for up to 24 such boys and girls ages 2-18 years old.</span></span>
LOCATION:Moss Park 12901 Moss Park Road Orlando\, Florida 32832
UID:e.2008.8671
SEQUENCE:3
DTSTAMP:20260424T224316Z
URL:https://business.eocc.org/events/details/central-florida-children-s-home-spring-fever-5k-10k-run-and-walk-8671
END:VEVENT

END:VCALENDAR
