BEGIN:VCALENDAR
VERSION:2.0
PRODID:-//ChamberMaster//Event Calendar 2.0//EN
METHOD:PUBLISH
X-PUBLISHED-TTL:P3D
REFRESH-INTERVAL:P3D
CALSCALE:GREGORIAN
BEGIN:VEVENT
DTSTART:20211203T170000Z
DTEND:20211205T230000Z
X-MICROSOFT-CDO-ALLDAYEVENT:FALSE
SUMMARY:Central Florida International Auto Show
DESCRIPTION:Friday 2 pm   9 pm\n\nSaturday 10 am   9 pm\n\nSunday 10 am   6 pm
X-ALT-DESC;FMTTYPE=text/html:<br />\nFriday 2 pm &ndash\; 9 pm<br />\nSaturday 10 am &ndash\; 9 pm<br />\nSunday 10 am &ndash\; 6 pm
LOCATION:Orange County Convention Center North Concourse Orlando\, FL
UID:e.2008.13293
SEQUENCE:3
DTSTAMP:20260419T204011Z
URL:https://business.eocc.org/events/details/central-florida-international-auto-show-12-03-2021-13293
END:VEVENT

END:VCALENDAR
