BEGIN:VCALENDAR
VERSION:2.0
PRODID:-//ChamberMaster//Event Calendar 2.0//EN
METHOD:PUBLISH
X-PUBLISHED-TTL:P3D
REFRESH-INTERVAL:P3D
CALSCALE:GREGORIAN
BEGIN:VEVENT
DTSTART:20180515T150000Z
DTEND:20180803T190000Z
X-MICROSOFT-CDO-ALLDAYEVENT:FALSE
SUMMARY:Christian Victory Academy School Enrollment
DESCRIPTION:Looking for a hybrid school? Christian Victory Academy\, an accredited private school providing on-campus\, online\, and a homeschool program is now enrolling for the 2018-19 school year. www.christianvictoryacademy.org
X-ALT-DESC;FMTTYPE=text/html:Looking for a hybrid school? Christian Victory Academy\, an accredited private school providing on-campus\, online\, and a homeschool program is now enrolling for the 2018-19 school year. <a href="http://www.christianvictoryacademy.org/" target="_blank">www.christianvictoryacademy.org</a><br />\n&nbsp\;
LOCATION:551 Gaston Foster Road Orlando\, Florida 32807
UID:e.2008.9812
SEQUENCE:3
DTSTAMP:20260424T171320Z
URL:https://business.eocc.org/events/details/christian-victory-academy-school-enrollment-9812
END:VEVENT

END:VCALENDAR
