BEGIN:VCALENDAR
VERSION:2.0
PRODID:-//ChamberMaster//Event Calendar 2.0//EN
METHOD:PUBLISH
X-PUBLISHED-TTL:P3D
REFRESH-INTERVAL:P3D
CALSCALE:GREGORIAN
BEGIN:VEVENT
DTSTART:20170313T200000Z
DTEND:20170313T230000Z
X-MICROSOFT-CDO-ALLDAYEVENT:FALSE
SUMMARY:Chuys Waterford Happy Hour
DESCRIPTION:Relax\, unwind and take advantage of this beautiful weather on our patio while sipping on one of our famous margaritas and enjoying some free chips and queso.\n\n\n\nOur happy hour special is Monday through Friday from 4-7pm and includes:\n\nFully Loaded Nacho Car with chips\, queso\, refried beans and beef - FREE\n\nChuy's Famous House Margarita $5.25 or make it a large for $7.95 - Includes on the rocks or frozen with options from lime\, strawberry and mango\n\nDomestic bottled beers $3.50 including Bud\, Bud Light\, Coors Light\, Miller Light\, Mich Ultra and Yuengling\n\nHouse Texas Tini $8.75\n\n\n\nWhile you're there don't forget to ask your server about our Daily Menu Specials\n\nMonday - Fat Daddy Enchilada\n\nTuesday - Green Chile Street Tacos\n\nWednesday - Spinach Chicken Enchilada\n\nThursday - Stuffed Avocado\n\nFriday - Chicken Enchiladas with Green Avocado Sauce\n\n\n\nSaturday/Sunday - Macho Burrito and Pork Tacos
X-ALT-DESC;FMTTYPE=text/html:<span style="color:#FF0000"><em><span style="font-size:14px">Relax\, unwind and take advantage of this beautiful weather on our patio while sipping on one of our famous margaritas and enjoying some free chips and queso.</span></em></span><br />\n<br />\n<strong><span style="color:#FF0000"><u>Our happy hour special is Monday through Friday from 4-7pm and includes:</u></span></strong><br />\n<span style="color:#FF0000">Fully Loaded Nacho Car with chips\, queso\, refried beans and beef -&nbsp\;<strong>FREE</strong><br />\nChuy&#39\;s Famous House Margarita <strong>$5.25</strong> or make it a large for <strong>$7.95</strong> - Includes on the rocks or frozen with options from lime\, strawberry and mango<br />\nDomestic bottled beers <strong>$3.50</strong> including Bud\, Bud Light\, Coors Light\, Miller Light\, Mich Ultra and Yuengling<br />\nHouse Texas Tini <strong>$8.75</strong><br />\n<br />\n<strong><u>While you&#39\;re there don&#39\;t forget to ask your server about our Daily Menu Specials</u></strong><br />\nMonday - Fat Daddy Enchilada<br />\nTuesday - Green Chile Street Tacos<br />\nWednesday - Spinach Chicken Enchilada<br />\nThursday - Stuffed Avocado<br />\nFriday - Chicken Enchiladas with Green Avocado Sauce<br />\n<br />\nSaturday/Sunday - Macho Burrito and Pork Tacos&nbsp\;</span><br />\n&nbsp\;
LOCATION:Located in front of the Waterford Oaks Shopping Plaza 1434 N. Alafaya Trail Orlando\, FL 32828 407-930-5334
UID:e.2008.7132
SEQUENCE:3
DTSTAMP:20260425T113002Z
URL:https://business.eocc.org/events/details/chuys-waterford-happy-hour-03-13-2017-7132
END:VEVENT

END:VCALENDAR
