BEGIN:VCALENDAR
VERSION:2.0
PRODID:-//ChamberMaster//Event Calendar 2.0//EN
METHOD:PUBLISH
X-PUBLISHED-TTL:P3D
REFRESH-INTERVAL:P3D
CALSCALE:GREGORIAN
BEGIN:VEVENT
DTSTART:20200220T133000Z
DTEND:20200220T143000Z
X-MICROSOFT-CDO-ALLDAYEVENT:FALSE
SUMMARY:Coffee Club Nona - Sam's Club Lake Nona
DESCRIPTION:Super-size our networking experience with the East Orlando Chambers Coffee Club Nona at Sam's Club every 3rd Thursday of the month from 8:30 - 9:30 AM.  You'll be large and in charge with timely topics\, bonus buys in interactive gaming\, networking galore and Real World Thursday's helping you grow. \n\n\n\nCoffee is hot\, fresh and ready to serve thanks to Panera Bread. Coffee Club is FREE to attend and a great way to get to know us better\, thanks to our Coffee Club sponsors: Duke Energy.\n\n\n\nWant to stand out in the crowd? Members can be Featured\, displaying products and promotions\, presenting briefly and offering a giveaway for budget friendly pricing or as a benefit of your membership level.  Register today or give us a call at 407-277-5951 to find out more!
X-ALT-DESC;FMTTYPE=text/html:Super-size our networking experience with the East Orlando Chambers Coffee Club Nona at Sam&#39\;s Club every 3rd Thursday of the month from 8:30 - 9:30 AM.&nbsp\; You&#39\;ll be large and in charge with timely topics\, bonus buys in interactive gaming\, networking galore and Real World Thursday&#39\;s helping you grow.&nbsp\;<br />\n<br />\nCoffee is hot\, fresh and ready to serve thanks to Panera Bread. Coffee Club is FREE to attend and a great way to get to know us better\, thanks to our Coffee Club sponsors: Duke Energy.<br />\n<br />\nWant to stand out in the crowd? Members can be Featured\, displaying products and promotions\, presenting briefly and offering a giveaway for budget friendly pricing or as a benefit of your membership level.&nbsp\; Register today or give us a call at 407-277-5951 to find out more!
LOCATION:Sam's Club Lake Nona 1920 Narcoossee Road Orlando\, FL 32832
UID:e.2008.12165
SEQUENCE:3
DTSTAMP:20260422T231256Z
URL:https://business.eocc.org/events/details/coffee-club-nona-sam-s-club-lake-nona-02-20-2020-12165
END:VEVENT

END:VCALENDAR
