BEGIN:VCALENDAR
VERSION:2.0
PRODID:-//ChamberMaster//Event Calendar 2.0//EN
METHOD:PUBLISH
X-PUBLISHED-TTL:P3D
REFRESH-INTERVAL:P3D
CALSCALE:GREGORIAN
BEGIN:VEVENT
DTSTART:20200219T150000Z
DTEND:20200219T170000Z
X-MICROSOFT-CDO-ALLDAYEVENT:FALSE
SUMMARY:Commissioner Gomez Cordero Satellite Office Hours
DESCRIPTION:Meet with Commissioner Gomez Cordero during her monthly satellite office hours. Appointments are preferred\, but walk-ins are welcome.
X-ALT-DESC;FMTTYPE=text/html:Meet with Commissioner Gomez Cordero during her monthly satellite office hours. Appointments are preferred\, but walk-ins are welcome.
LOCATION:East Orange Community Center 12050 E. Colonial Dr. Orlando\, FL 32826
UID:e.2008.12287
SEQUENCE:3
DTSTAMP:20260422T230933Z
URL:https://business.eocc.org/events/details/commissioner-gomez-cordero-satellite-office-hours-02-19-2020-12287
END:VEVENT

END:VCALENDAR
