BEGIN:VCALENDAR
VERSION:2.0
PRODID:-//ChamberMaster//Event Calendar 2.0//EN
METHOD:PUBLISH
X-PUBLISHED-TTL:P3D
REFRESH-INTERVAL:P3D
CALSCALE:GREGORIAN
BEGIN:VEVENT
DTSTART:20161112T150000Z
DTEND:20161112T190000Z
X-MICROSOFT-CDO-ALLDAYEVENT:FALSE
SUMMARY:Community Health Fair
DESCRIPTION:Get ready for our 2016 Community Health Fair! We'll be offering free Hepatitis C tests\, free glucose checks\, free cholesterol checks\, free blood pressure checks\, free occult blood test kits\, and flu shots (free for the uninsured). You'll be able to enter our raffles for a chance to win a free colonoscopy\, endoscopy\, mammogram certificate\, compression stockings\, and more. Lunch will include free 4 Rivers BBQ sandwiches\, free hot dogs\, and free popcorn. Event embraces local entertainment including yoga\, ballet\, martial arts\, and dance presentations throughout the morning. With jumpers and face painting for kids\, the whole family can benefit from our Community Health Fair!
X-ALT-DESC;FMTTYPE=text/html:Get ready for our 2016 Community Health Fair! We&#39\;ll be offering free Hepatitis C tests\, free glucose checks\, free cholesterol checks\, free blood pressure checks\, free occult blood test kits\, and flu shots (free for the uninsured). You&#39\;ll be able to enter our raffles for a chance to win a free colonoscopy\, endoscopy\, mammogram certificate\, compression stockings\, and more. Lunch will include free 4 Rivers BBQ sandwiches\, free hot dogs\, and free popcorn. Event embraces local entertainment including yoga\, ballet\, martial arts\, and dance presentations throughout the morning. With jumpers and face painting for kids\, the whole family can benefit from our Community Health Fair!
LOCATION:Digestive and Liver Center of Florida 100 N. Dean Road Orlando\, FL 32825
UID:e.2008.5312
SEQUENCE:3
DTSTAMP:20260425T162238Z
URL:https://business.eocc.org/events/details/community-health-fair-5312
END:VEVENT

END:VCALENDAR
