BEGIN:VCALENDAR
VERSION:2.0
PRODID:-//ChamberMaster//Event Calendar 2.0//EN
METHOD:PUBLISH
X-PUBLISHED-TTL:P3D
REFRESH-INTERVAL:P3D
CALSCALE:GREGORIAN
BEGIN:VEVENT
DTSTART:20180421T140000Z
DTEND:20180421T170000Z
X-MICROSOFT-CDO-ALLDAYEVENT:FALSE
SUMMARY:Community Open House at Orlando Fire Station 14
DESCRIPTION:The Orlando Fire Department invites you to Fire Station 14 for a Community Open House. Bring the family and meet your firefighters. Learn some vital safety tips\, including Hands-Only CPR\, home fire safety and blood pressure checks. Food\, beverages and children's activities will be provided.
X-ALT-DESC;FMTTYPE=text/html:The Orlando Fire Department invites you to Fire Station 14 for a Community Open House. Bring the family and meet your firefighters. Learn some vital safety tips\, including Hands-Only CPR\, home fire safety and blood pressure checks. Food\, beverages and children&#39\;s activities will be provided.
LOCATION:Orlando Fire Staton 14 5450 South Econlockhatchee Trail Orlando\, Fl 32829
UID:e.2008.9756
SEQUENCE:3
DTSTAMP:20260424T213506Z
URL:https://business.eocc.org/events/details/community-open-house-at-orlando-fire-station-14-9756
END:VEVENT

END:VCALENDAR
