BEGIN:VCALENDAR
VERSION:2.0
PRODID:-//ChamberMaster//Event Calendar 2.0//EN
METHOD:PUBLISH
X-PUBLISHED-TTL:P3D
REFRESH-INTERVAL:P3D
CALSCALE:GREGORIAN
BEGIN:VEVENT
DTSTART:20170620T123000Z
DTEND:20170620T140000Z
X-MICROSOFT-CDO-ALLDAYEVENT:FALSE
SUMMARY:Drive New Business with Social Media
DESCRIPTION:Drive New Business with Social Media\n\nPresented by John Ramos\, Constant Contact Representative\n\n\n\nYou know you should be on social media for your business or non-profit. You know it can help you drive more new and repeat business for your organization. But\, do you know why? Do you know which social media platform will have the biggest bang for your buck? And when you start your profile\, do you know what to say and how to grow your following? John will tell you how!
X-ALT-DESC;FMTTYPE=text/html:Drive New Business with Social Media<br />\nPresented by John Ramos\, Constant Contact Representative<br />\n<br />\nYou know you should be on social media for your business or non-profit. You know it can help you drive more new and repeat business for your organization. But\, do you know why? Do you know which social media platform will have the biggest bang for your buck? And when you start your profile\, do you know what to say and how to grow your following? John will tell you how!
LOCATION:East Orlando Chamber Waterford Lakes Office 12301 Lake Underhill Road\, Suite 245 Orlando\, FL 32828
UID:e.2008.7676
SEQUENCE:3
DTSTAMP:20260426T022923Z
URL:https://business.eocc.org/events/details/drive-new-business-with-social-media-7676
END:VEVENT

END:VCALENDAR
