BEGIN:VCALENDAR
VERSION:2.0
PRODID:-//ChamberMaster//Event Calendar 2.0//EN
METHOD:PUBLISH
X-PUBLISHED-TTL:P3D
REFRESH-INTERVAL:P3D
CALSCALE:GREGORIAN
BEGIN:VEVENT
DTSTART:20181113T130000Z
DTEND:20181113T143000Z
X-MICROSOFT-CDO-ALLDAYEVENT:FALSE
SUMMARY:Early Learning Coalition of Orange County: Destination Kindergaten
DESCRIPTION:On November 13th\, 2018 the Early Learning Coalition of Orange County invites you to attend Destination Kindergarten.\n\n\n\nCome join us at this annual friendraiser as we bring community members together to learn the importance of access to quality early education. Spend the morning enjoying a fun performance from preschoolers while lending your support to Orange County's youngest citizens.\n\n\n\nComplimentary breakfast will be served for your enjoyment. Space is limited\, reserve your seat today!
X-ALT-DESC;FMTTYPE=text/html:<div>On November 13th\, 2018 the Early Learning Coalition of Orange County invites you to attend Destination Kindergarten.<br />\n<br />\nCome join us at this annual friendraiser as we bring community members together to learn the importance of access to quality early education. Spend the morning enjoying a fun performance from preschoolers while lending your support to Orange County&rsquo\;s youngest citizens.<br />\n<br />\nComplimentary breakfast will be served for your enjoyment. Space is limited\, reserve your seat today!</div>\n
LOCATION:Early Learning Coaliton of Orange County 7700 Southland Blvd Suite 100 Orlando\, FL 32809 https://her.is/2OQ58FL
UID:e.2008.9911
SEQUENCE:3
DTSTAMP:20260424T134534Z
URL:https://business.eocc.org/events/details/early-learning-coalition-of-orange-county-destination-kindergaten-9911
END:VEVENT

END:VCALENDAR
