BEGIN:VCALENDAR
VERSION:2.0
PRODID:-//ChamberMaster//Event Calendar 2.0//EN
METHOD:PUBLISH
X-PUBLISHED-TTL:P3D
REFRESH-INTERVAL:P3D
CALSCALE:GREGORIAN
BEGIN:VEVENT
DTSTART:20180406T211500Z
DTEND:20180406T231500Z
X-MICROSOFT-CDO-ALLDAYEVENT:FALSE
SUMMARY:East Orange Community Center - Men's Night of Networking
DESCRIPTION:Men's Night of Networking.\n\nOpen to all men\, any background\, any profession.
X-ALT-DESC;FMTTYPE=text/html:<div>Men&#39\;s Night of Networking.<br />\nOpen to all men\, any background\, any profession.</div>\n
LOCATION:East Orange Community Center 12050 E. Colonial Dr Orlando\, FL 32826
UID:e.2008.8705
SEQUENCE:3
DTSTAMP:20260424T213741Z
URL:https://business.eocc.org/events/details/east-orange-community-center-men-s-night-of-networking-8705
END:VEVENT

END:VCALENDAR
