BEGIN:VCALENDAR
VERSION:2.0
PRODID:-//ChamberMaster//Event Calendar 2.0//EN
METHOD:PUBLISH
X-PUBLISHED-TTL:P3D
REFRESH-INTERVAL:P3D
CALSCALE:GREGORIAN
BEGIN:VEVENT
DTSTART:20170408T120000Z
DTEND:20170408T160000Z
X-MICROSOFT-CDO-ALLDAYEVENT:FALSE
SUMMARY:East Orange Community Clean Up
DESCRIPTION:Join us and Commissioner Jennifer Thompson as we work with the community to clean East Orange County. All volunteers will receive a commemorative t-shirt and complimentary lunch provided by Chuy's.
X-ALT-DESC;FMTTYPE=text/html:<p><span style="color:rgb(51\, 51\, 51)\; font-family:arial\,sans-serif\; font-size:10pt">Join us and Commissioner Jennifer Thompson&nbsp\;as we work&nbsp\;with the&nbsp\;community to clean East Orange County. All volunteers will receive a commemorative t-shirt and complimentary lunch provided by Chuy&#39\;s. </span></p>\n
LOCATION:East Orange Community Action Center 12050 E. Colonial Drive Orlando\, FL 32826
UID:e.2008.7591
SEQUENCE:3
DTSTAMP:20260419T174215Z
URL:https://business.eocc.org/events/details/east-orange-community-clean-up-7591
END:VEVENT

END:VCALENDAR
