BEGIN:VCALENDAR
VERSION:2.0
PRODID:-//ChamberMaster//Event Calendar 2.0//EN
METHOD:PUBLISH
X-PUBLISHED-TTL:P3D
REFRESH-INTERVAL:P3D
CALSCALE:GREGORIAN
BEGIN:VEVENT
DTSTART:20200403T130000Z
DTEND:20200403T140000Z
X-MICROSOFT-CDO-ALLDAYEVENT:FALSE
SUMMARY:East Orlando Scavenger Hunt University Planning Committee
DESCRIPTION:East Orlando Chamber Scavenger Hunt Virtual Meeting
X-ALT-DESC;FMTTYPE=text/html:East Orlando Chamber Scavenger Hunt Virtual Meeting
LOCATION:East Orlando Chamber Scavenger Hunt Planning Meeting Fri\, Apr 3\, 2020 9:00 AM - 10:00 AM (EDT) Please join my meeting from your computer\, tablet or smartphone. via the Go To Meeting Link provided upon registering
UID:e.2008.12645
SEQUENCE:3
DTSTAMP:20260422T194017Z
URL:https://business.eocc.org/events/details/east-orlando-scavenger-hunt-university-planning-committee-12645
END:VEVENT

END:VCALENDAR
