BEGIN:VCALENDAR
VERSION:2.0
PRODID:-//ChamberMaster//Event Calendar 2.0//EN
METHOD:PUBLISH
X-PUBLISHED-TTL:P3D
REFRESH-INTERVAL:P3D
CALSCALE:GREGORIAN
BEGIN:VEVENT
DTSTART:20190601T140000Z
DTEND:20190601T160000Z
X-MICROSOFT-CDO-ALLDAYEVENT:FALSE
SUMMARY:First Time Homebuyer Seminar with Waterstone Mortgage and Real Estate Pros
DESCRIPTION:Join us for this educational event where you will walk away knowing if you qualify to buy now\, andif not\, what you need to do to qualify. We will discuss the loan programs that best fit your situation along with providing assistance and the roadmap you need to purchase your new home!\n\n\n\nRegister Here\n\n\n\nSponsored by Real Estate Pros \, Waterstone Mortgage &  Closer Look Inspections
X-ALT-DESC;FMTTYPE=text/html:Join us for this educational event where you will walk away knowing if you qualify to buy now\, andif not\, what you need to do to qualify. We will discuss the loan programs that best fit your situation along with providing assistance and the roadmap you need to purchase your new home!<br />\n<br />\n<u><em><strong><span style="font-size:14px"><a href="http://www.aneshawarner.com/" style="color: rgb(7\, 130\, 193)\;"><span style="color:rgb(0\, 0\, 205)">Register Here<br />\n<br />\nSponsored by Real Estate Pros \, Waterstone Mortgage &amp\;&nbsp\; Closer Look Inspections</span></a></span></strong></em></u><br />\n&nbsp\;
LOCATION:Waterstone Mortgage 2699 Lee Road\, Suite 600 Winter Park\, FL 32789 Register Here We look forward to seeing you there!!
UID:e.2008.10865
SEQUENCE:3
DTSTAMP:20260423T210745Z
URL:https://business.eocc.org/events/details/educational-series-homebuyer-seminar-10865
END:VEVENT

END:VCALENDAR
