BEGIN:VCALENDAR
VERSION:2.0
PRODID:-//ChamberMaster//Event Calendar 2.0//EN
METHOD:PUBLISH
X-PUBLISHED-TTL:P3D
REFRESH-INTERVAL:P3D
CALSCALE:GREGORIAN
BEGIN:VEVENT
DTSTART:20211203T170000Z
DTEND:20211203T180000Z
X-MICROSOFT-CDO-ALLDAYEVENT:FALSE
SUMMARY:EOC Foundation Committee Meeting
DESCRIPTION:Planning the 2022 Foundation Events
X-ALT-DESC;FMTTYPE=text/html:Planning the 2022 Foundation Events
LOCATION:East Orlando Chamber Offices
UID:e.2008.13705
SEQUENCE:3
DTSTAMP:20260419T221504Z
URL:https://business.eocc.org/events/details/eoc-foundation-committee-meeting-13705
END:VEVENT

END:VCALENDAR
