BEGIN:VCALENDAR
VERSION:2.0
PRODID:-//ChamberMaster//Event Calendar 2.0//EN
METHOD:PUBLISH
X-PUBLISHED-TTL:P3D
REFRESH-INTERVAL:P3D
CALSCALE:GREGORIAN
BEGIN:VEVENT
DTSTART:20140612T123000Z
DTEND:20140612T140000Z
X-MICROSOFT-CDO-ALLDAYEVENT:FALSE
SUMMARY:EOCC Board Meeting
DESCRIPTION:The EOCC Board normally meets on the 2nd Thursday of the month from 8:30 AM to 10:00 AM. at the UCF Business Incubator\, 3267 Progress Drive\, Room 116\, Orlando\, FL 32826 unless otherwise specified.
X-ALT-DESC;FMTTYPE=text/html:<div style="text-align: justify\;"><span style="font-size:12px\;"><span style="font-family: arial\;">The EOCC Board normally meets on the 2nd Thursday of the month from 8:30 AM to 10:00 AM. at the UCF Business Incubator\, 3267 Progress Drive\, Room 116\, Orlando\, FL 32826 unless otherwise specified.</span></span></div>\n
LOCATION:Nemours Children's Hospital Conference Room A 13535 Nemours Pkwy Orlando\, FL 32827
UID:e.2008.1032
SEQUENCE:3
DTSTAMP:20260421T003700Z
URL:https://business.eocc.org/events/details/eocc-board-meeting-06-12-2014-1032
END:VEVENT

END:VCALENDAR
