BEGIN:VCALENDAR
VERSION:2.0
PRODID:-//ChamberMaster//Event Calendar 2.0//EN
METHOD:PUBLISH
X-PUBLISHED-TTL:P3D
REFRESH-INTERVAL:P3D
CALSCALE:GREGORIAN
BEGIN:VEVENT
DTSTART:20140710T123000Z
DTEND:20140710T140000Z
X-MICROSOFT-CDO-ALLDAYEVENT:FALSE
SUMMARY:EOCC Board Meeting
DESCRIPTION:The EOCC Board normally meets on the 2nd Thursday of the month from 8:30 AM to 10:00 AM at the UCF Business Incubator\, unless otherwise noted.
X-ALT-DESC;FMTTYPE=text/html:The EOCC&nbsp\;Board normally meets on the 2nd Thursday of the month from 8:30 AM to 10:00 AM at the UCF Business Incubator\, unless otherwise noted.
LOCATION:UCF Business Incubator 3267 Progress Drive\, Room 116 Orlando\, FL 32826
UID:e.2008.1033
SEQUENCE:3
DTSTAMP:20260420T171040Z
URL:https://business.eocc.org/events/details/eocc-board-meeting-07-10-2014-1033
END:VEVENT

END:VCALENDAR
