BEGIN:VCALENDAR
VERSION:2.0
PRODID:-//ChamberMaster//Event Calendar 2.0//EN
METHOD:PUBLISH
X-PUBLISHED-TTL:P3D
REFRESH-INTERVAL:P3D
CALSCALE:GREGORIAN
BEGIN:VEVENT
DTSTART:20200902T123000Z
DTEND:20200902T140000Z
X-MICROSOFT-CDO-ALLDAYEVENT:FALSE
SUMMARY:EOCC Board of Directors Meeting
DESCRIPTION:The Meeting of the EOCC Board of Directors Executive Committee takes place the 1st Wednesday of the month\, unless otherwise indicated.
X-ALT-DESC;FMTTYPE=text/html:The Meeting of the EOCC Board of Directors Executive Committee takes place the 1st Wednesday of the month\, unless otherwise indicated. &nbsp\;&nbsp\;&nbsp\;&nbsp\;&nbsp\;
LOCATION:Virtual powered by Powernet
UID:e.2008.11161
SEQUENCE:3
DTSTAMP:20260421T233016Z
URL:https://business.eocc.org/events/details/eocc-board-of-directors-meeting-11161
END:VEVENT

END:VCALENDAR
