BEGIN:VCALENDAR
VERSION:2.0
PRODID:-//ChamberMaster//Event Calendar 2.0//EN
METHOD:PUBLISH
X-PUBLISHED-TTL:P3D
REFRESH-INTERVAL:P3D
CALSCALE:GREGORIAN
BEGIN:VEVENT
DTSTART:20200608T123000Z
DTEND:20200608T140000Z
X-MICROSOFT-CDO-ALLDAYEVENT:FALSE
SUMMARY:EOCC Trustee Meeting
DESCRIPTION:East Orlando Chamber Trustees Meeting
X-ALT-DESC;FMTTYPE=text/html:East Orlando Chamber Trustees Meeting
LOCATION:TBD
UID:e.2008.11270
SEQUENCE:3
DTSTAMP:20260421T093718Z
URL:https://business.eocc.org/events/details/eocc-trustee-meeting-11270
END:VEVENT

END:VCALENDAR
