BEGIN:VCALENDAR
VERSION:2.0
PRODID:-//ChamberMaster//Event Calendar 2.0//EN
METHOD:PUBLISH
X-PUBLISHED-TTL:P3D
REFRESH-INTERVAL:P3D
CALSCALE:GREGORIAN
BEGIN:VEVENT
DTSTART:20200918T150000Z
DTEND:20200918T170000Z
X-MICROSOFT-CDO-ALLDAYEVENT:FALSE
SUMMARY:EOCC Trustee Meeting
DESCRIPTION:East Orlando Chamber Trustees Meeting\, Friday\, September 18 11:00AM-12:00 Noon\n\nJoin us for an in person or virtual meeting. We have a number of Agenda Items so please arrive on time.\n\nFollowing the meeting those who so choose\, can meet at Bonefish Grill for lunch from 12:00PM-1:00PM.\n\n\n\nOur top priority is the safety for you and others.\n\n    Venues are adhering to current guidelines regarding setup and cleaning schedules\n\n    Adhere to Social Distancing Guidelines 6' Apart\n\n    Meeting requires a mandatory RSVP so we can comply capacities and a socially-distanced setup\n\n    Masks must be worn\n\n    Fist bumps and elbow rubs are welcomed\n\n    Hand sanitizer will be available at check-in\n\n    Temperatures will be checked. If anyone has a temperature over 100 degrees they will not be admitted.\n\n    A signed release form may be required.  \n\n\n\nPlease do not attend if you (or someone in your household) has\n\n    Had a fever in last 24 hours\n\n    Had a cough\, congestion or runny nose\n\n    Have been exposed to someone who tested positive in the past two weeks.
X-ALT-DESC;FMTTYPE=text/html:East Orlando Chamber Trustees Meeting\, Friday\, September 18 11:00AM-12:00 Noon<br />\nJoin us for an in person or virtual meeting. We have a number of Agenda Items so please arrive on time.<br />\nFollowing the meeting those who so choose\, can meet at Bonefish Grill for lunch from 12:00PM-1:00PM.<br />\n<br />\n<strong>Our top priority is the safety for you and others.<br />\n&nbsp\;&nbsp\;&nbsp\; Venues are adhering to current guidelines regarding setup and cleaning schedules</strong><br />\n&nbsp\;&nbsp\;&nbsp\; <strong>Adhere to Social Distancing Guidelines 6&#39\; Apart<br />\n&nbsp\;&nbsp\;&nbsp\; Meeting requires a mandatory RSVP so we can comply capacities and a socially-distanced setup<br />\n&nbsp\;&nbsp\;&nbsp\; Masks must be worn<br />\n&nbsp\;&nbsp\;&nbsp\; Fist bumps and elbow rubs are welcomed<br />\n&nbsp\;&nbsp\;&nbsp\; Hand sanitizer will be available at check-in<br />\n&nbsp\;&nbsp\;&nbsp\; Temperatures will be checked. If anyone has a temperature over 100 degrees they will not be admitted.<br />\n&nbsp\;&nbsp\;&nbsp\; A signed release form may be required. &nbsp\;<br />\n<br />\nPlease do not attend if you (or someone in your household) has<br />\n&nbsp\;&nbsp\;&nbsp\; Had a fever in last 24 hours<br />\n&nbsp\;&nbsp\;&nbsp\; Had a cough\, congestion or runny nose<br />\n&nbsp\;&nbsp\;&nbsp\; Have been exposed to someone who tested positive in the past two weeks.</strong>
LOCATION:East Orlando Chamber of Commerce Conference Room 12301 Lake Underhill Rd. Suite 245 Orlando\, FL 32828 Virtual Meeting Login will be sent via email.
UID:e.2008.11271
SEQUENCE:3
DTSTAMP:20260422T002223Z
URL:https://business.eocc.org/events/details/eocc-trustee-meeting-11271
END:VEVENT

END:VCALENDAR
