BEGIN:VCALENDAR
VERSION:2.0
PRODID:-//ChamberMaster//Event Calendar 2.0//EN
METHOD:PUBLISH
X-PUBLISHED-TTL:P3D
REFRESH-INTERVAL:P3D
CALSCALE:GREGORIAN
BEGIN:VEVENT
DTSTART:20180803T153000Z
DTEND:20180803T160000Z
X-MICROSOFT-CDO-ALLDAYEVENT:FALSE
SUMMARY:Feast in the East Planning Meeting #4
DESCRIPTION:Join us for the Feast in the East Planning Committee Meeting\n\nBecome a #FeastBeast
X-ALT-DESC;FMTTYPE=text/html:Join us for the Feast in the East Planning Committee Meeting<br />\nBecome a #FeastBeast&nbsp\;
LOCATION:East Orlando Chamber of Commerce 12301 Lake Underhill Road\, Ste. 245 Orlando\, FL 32828
UID:e.2008.9884
SEQUENCE:3
DTSTAMP:20260424T230238Z
URL:https://business.eocc.org/events/details/feast-in-the-east-planning-meeting-4-9884
END:VEVENT

END:VCALENDAR
