BEGIN:VCALENDAR
VERSION:2.0
PRODID:-//ChamberMaster//Event Calendar 2.0//EN
METHOD:PUBLISH
X-PUBLISHED-TTL:P3D
REFRESH-INTERVAL:P3D
CALSCALE:GREGORIAN
BEGIN:VEVENT
DTSTART:20161130T233000Z
DTEND:20161201T003000Z
X-MICROSOFT-CDO-ALLDAYEVENT:FALSE
SUMMARY:Free Educational Class
DESCRIPTION:Chamber member David Bardach\, representing Community Outreach For Financial Education\, will be putting on a free class for Chamber members 11/30/2016 at 6:30 PM at the Casselberry Library at 215 Oxford Road Casselberry FL 32707 Class description follows\; "Learn how to get completely out of debt in 9 years or less without spending any more money than you are currently spending. This class teaches proven budgeting and payment strategies to save you thousands of dollars and get firmly on the path to becoming debt free and enjoying a great retirement. You can RSVP by calling toll free 1-877-267-1922    www.coffeusa.org"
X-ALT-DESC;FMTTYPE=text/html:Chamber member David Bardach\, representing Community Outreach For Financial Education\, will be putting on a free class for Chamber members 11/30/2016 at 6:30 PM at the&nbsp\;Casselberry Library at 215 Oxford Road Casselberry FL 32707 Class description follows\; &quot\;Learn how to get completely out of debt in 9 years or less without spending any more money than you are currently spending. This class teaches proven budgeting and payment strategies to save you thousands of dollars and get firmly on the path to becoming debt free and enjoying a great retirement. You can RSVP by calling toll free 1-877-267-1922&nbsp\;&nbsp\; &nbsp\;<a href="http://www.coffeusa.org%22/" target="_blank">www.coffeusa.org&quot\;</a>
LOCATION:
UID:e.2008.5399
SEQUENCE:3
DTSTAMP:20260422T011546Z
URL:https://business.eocc.org/events/details/free-educational-class-5399
END:VEVENT

END:VCALENDAR
