BEGIN:VCALENDAR
VERSION:2.0
PRODID:-//ChamberMaster//Event Calendar 2.0//EN
METHOD:PUBLISH
X-PUBLISHED-TTL:P3D
REFRESH-INTERVAL:P3D
CALSCALE:GREGORIAN
BEGIN:VEVENT
DTSTART:20150428T140000Z
DTEND:20150428T150000Z
X-MICROSOFT-CDO-ALLDAYEVENT:FALSE
SUMMARY:Golf Committee Meeting
DESCRIPTION:This Committee plans the Chamber's signature fundraising event. For over 30 years the golf tournament has encouraged businesses to network on the green. A portion of the proceeds benefit a local East Orlando Chamber non-profit charity. \n\n\n\nMeeting/Conference Call.\n\n\n\nWe are meeting this Thursday at 10:00 AM at the Chamber office or you can call in for the conference call.\n\nHere is the Call information:\n\n530-881-1000\n\nPass Code: 327369#\n\nTopics:\n\nGolfers/Foursomes Needed\n\nSponsors\n\nPrizes\, Silent auction items\, prizes\n\nNeed a final decision for the Commemorative Coin Order\n\nSwag Bags have been Ordered\n\nVolunteers
X-ALT-DESC;FMTTYPE=text/html:<div style="text-align: justify\;"><span style="border: none\; border-collapse: separate\; border-image-source: none\; border-image-slice: 100% 1 0\; border-image-repeat: stretch\; border-top-left-radius: 0px\; border-top-right-radius: 0px\; border-bottom-right-radius: 0px\; border-bottom-left-radius: 0px\; bottom: auto\; box-sizing: content-box\; clear: none\; color: rgb(0\, 0\, 0)\; content: normal\; direction: inherit\; empty-cells: show\; font-family: Arial\, Helvetica\, sans-serif\; left: auto\; line-height: normal\; margin: 0px\; max-height: none\; max-width: none\; opacity: 1\; outline: invert none medium\; outline-offset: 0px\; overflow: visible\; padding: 0px\; position: static\; resize: none\; right: auto\; table-layout: auto\; text-align: justify\; text-justify: inherit\; text-overflow: clip\; top: auto\; vertical-align: baseline\; visibility: inherit\; word-break: inherit\; word-wrap: inherit\; z-index: auto\; height: auto\; width: auto\; box-shadow: none\; background-image: none\; background-attachment: initial\; background-size: initial\; background-origin: initial\; background-clip: initial\; background-position: initial\; background-repeat: initial\;">This Committee plans the Chamber&#39\;s signature fundraising event. For over 30 years</span><span style="border: none\; border-collapse: separate\; border-image-source: none\; border-image-slice: 100% 1 0\; border-image-repeat: stretch\; border-top-left-radius: 0px\; border-top-right-radius: 0px\; border-bottom-right-radius: 0px\; border-bottom-left-radius: 0px\; bottom: auto\; box-sizing: content-box\; clear: none\; color: rgb(0\, 0\, 0)\; content: normal\; direction: inherit\; empty-cells: show\; font-family: Arial\, Helvetica\, sans-serif\; left: auto\; line-height: normal\; margin: 0px\; max-height: none\; max-width: none\; opacity: 1\; outline: invert none medium\; outline-offset: 0px\; overflow: visible\; padding: 0px\; position: static\; resize: none\; right: auto\; table-layout: auto\; text-align: justify\; text-justify: inherit\; text-overflow: clip\; top: auto\; vertical-align: baseline\; visibility: inherit\; word-break: inherit\; word-wrap: inherit\; z-index: auto\; height: auto\; width: auto\; box-shadow: none\; background-image: none\; background-attachment: initial\; background-size: initial\; background-origin: initial\; background-clip: initial\; background-position: initial\; background-repeat: initial\;"> the golf tournament has&nbsp\;encouraged&nbsp\;businesses to network on the green. A portion of the proceeds benefit a local East Orlando Chamber non-profit charity. </span><br />\n<br />\nMeeting/Conference Call.<br />\n<br />\nWe are meeting this Thursday at 10:00 AM at the Chamber office or you can call in for the conference call.<br />\nHere is the Call information:<br />\n<strong>530-881-1000</strong><br />\n<strong>Pass Code: 327369#</strong><br />\nTopics:<br />\nGolfers/Foursomes Needed<br />\nSponsors<br />\nPrizes\, Silent auction items\, prizes<br />\nNeed a final decision for the Commemorative Coin Order<br />\nSwag Bags have been Ordered<br />\nVolunteers<br />\n&nbsp\;</div>\n
LOCATION:EOCC Office 3251 Progress Drive Orlando\, FL 32826 Here is the Call information: 530-881-1000 Pass Code: 327369#
UID:e.2008.2463
SEQUENCE:3
DTSTAMP:20260422T083312Z
URL:https://business.eocc.org/events/details/golf-committee-meeting-04-28-2015-2463
END:VEVENT

END:VCALENDAR
