BEGIN:VCALENDAR
VERSION:2.0
PRODID:-//ChamberMaster//Event Calendar 2.0//EN
METHOD:PUBLISH
X-PUBLISHED-TTL:P3D
REFRESH-INTERVAL:P3D
CALSCALE:GREGORIAN
BEGIN:VEVENT
DTSTART:20140602T123000Z
DTEND:20140602T133000Z
X-MICROSOFT-CDO-ALLDAYEVENT:FALSE
SUMMARY:Golf Committee Meeting
DESCRIPTION:Our signature fundraising event takes place every September. This is the 30th year the tournament has encouraged businesses to network on the green. A portion of the proceeds benefit a local East Orlando Chamber non-profit as well. This committee meets from March to September.
X-ALT-DESC;FMTTYPE=text/html:<div style="text-align: justify\;"><span style="font-size:12px\;"><span style="color: rgb(0\, 0\, 0)\; font-family: Arial\; font-style: normal\; font-variant: normal\; font-weight: normal\; letter-spacing: normal\; line-height: normal\; text-align: justify\; text-indent: 0px\; text-transform: none\; white-space: normal\; word-spacing: 0px\; background-color: rgb(255\, 255\, 255)\; display: inline ! important\; float: none\;">Our signature fundraising event takes place every September. This is the </span><span style="color: rgb(0\, 0\, 0)\; font-family: Arial\; font-style: normal\; font-variant: normal\; font-weight: normal\; letter-spacing: normal\; line-height: normal\; text-align: justify\; text-indent: 0px\; text-transform: none\; white-space: normal\; word-spacing: 0px\; background-color: rgb(255\, 255\, 255)\; display: inline ! important\; float: none\;">30</span><sup style="color: rgb(0\, 0\, 0)\; font-family: Arial\; font-style: normal\; font-variant: normal\; font-weight: normal\; letter-spacing: normal\; line-height: normal\; orphans: auto\; text-align: justify\; text-indent: 0px\; text-transform: none\; white-space: normal\; widows: auto\; word-spacing: 0px\; -webkit-text-stroke-width: 0px\; background-color: rgb(255\, 255\, 255)\;">th</sup><span style="color: rgb(0\, 0\, 0)\; font-family: Arial\; font-style: normal\; font-variant: normal\; font-weight: normal\; letter-spacing: normal\; line-height: normal\; text-align: justify\; text-indent: 0px\; text-transform: none\; white-space: normal\; word-spacing: 0px\; background-color: rgb(255\, 255\, 255)\; display: inline ! important\; float: none\;"> year the tournament has&nbsp\;encouraged&nbsp\;businesses to network on the green. A portion of the proceeds benefit a local East Orlando Chamber non-profit as well. This committee meets from March to September.</span></span></div>\n
LOCATION:Chamber Office 3251 Progress Drive\, Suite B1 Orlando\, FL 32826
UID:e.2008.1603
SEQUENCE:3
DTSTAMP:20260424T215951Z
URL:https://business.eocc.org/events/details/golf-committee-meeting-06-02-2014-1603
END:VEVENT

END:VCALENDAR
