BEGIN:VCALENDAR
VERSION:2.0
PRODID:-//ChamberMaster//Event Calendar 2.0//EN
METHOD:PUBLISH
X-PUBLISHED-TTL:P3D
REFRESH-INTERVAL:P3D
CALSCALE:GREGORIAN
BEGIN:VEVENT
DTSTART:20160405T120000Z
DTEND:20160405T130000Z
X-MICROSOFT-CDO-ALLDAYEVENT:FALSE
SUMMARY:Healthy Mornings Chat: Public Health
DESCRIPTION:Join Florida Blue for National Public Health Week to discuss the state of health in our Orlando community and learn about important issues from the Florida Department of Health's Epidemiologist. Enjoy a light breakfast and networking!
X-ALT-DESC;FMTTYPE=text/html:Join Florida Blue for National Public Health Week to discuss the state of health in our Orlando community and learn about important issues from the Florida Department of Health&#39\;s Epidemiologist. Enjoy a light breakfast and networking!
LOCATION:Florida Blue Orlando Center 434 N. Orlando Ave. Winter Park\, FL 32789
UID:e.2008.4931
SEQUENCE:3
DTSTAMP:20260426T011441Z
URL:https://business.eocc.org/events/details/healthy-mornings-chat-public-health-04-05-2016-4931
END:VEVENT

END:VCALENDAR
