BEGIN:VCALENDAR
VERSION:2.0
PRODID:-//ChamberMaster//Event Calendar 2.0//EN
METHOD:PUBLISH
X-PUBLISHED-TTL:P3D
REFRESH-INTERVAL:P3D
CALSCALE:GREGORIAN
BEGIN:VEVENT
DTSTART;VALUE=DATE:20180219
DTEND;VALUE=DATE:20180220
TRANSP:TRANSPARENT
X-MICROSOFT-CDO-ALLDAYEVENT:TRUE
SUMMARY:HEWfit 5-week Nutrition & Fitness Challenge
DESCRIPTION:It's Fitness February & time to get HEWfit!
X-ALT-DESC;FMTTYPE=text/html:<strong><span style="font-size:22px\;">It&#39\;s Fitness February &amp\; time to get HEWfit!</span></strong><br />\n&nbsp\;
LOCATION:HEW (Hard Exercise Works) 11551 University Blvd #8 Orlando\, FL 32817 #EOCC Chamber staff is all in...Are YOU?
UID:e.2008.8660
SEQUENCE:3
DTSTAMP:20260424T234937Z
URL:https://business.eocc.org/events/details/hewfit-5-week-nutrition-fitness-challenge-8660
END:VEVENT

END:VCALENDAR
