BEGIN:VCALENDAR
VERSION:2.0
PRODID:-//ChamberMaster//Event Calendar 2.0//EN
METHOD:PUBLISH
X-PUBLISHED-TTL:P3D
REFRESH-INTERVAL:P3D
CALSCALE:GREGORIAN
BEGIN:VEVENT
DTSTART:20180215T220000Z
DTEND:20180215T230000Z
X-MICROSOFT-CDO-ALLDAYEVENT:FALSE
SUMMARY:HEWfit Nutrition & Fitness Challenge Orientation
DESCRIPTION:We are going to "Pump You Up" during our 2018 HEWFit Nutrition & Fitness Challenge co-hosted by Hard Exercise Works & Fresh Kitchen.  Register your team today.  Then join us for the orientation on Thursday\, February 15\, 2018 at the EOCC Office.
X-ALT-DESC;FMTTYPE=text/html:We are going to &quot\;Pump You Up&quot\; during our 2018 HEWFit Nutrition &amp\; Fitness Challenge co-hosted by Hard Exercise Works &amp\; Fresh Kitchen.&nbsp\; <a href="http://eocchewfitchallenge.wodifyrise.com">Register your team today.&nbsp\;</a> Then join us for the orientation on Thursday\, February 15\, 2018 at the EOCC Office.&nbsp\;&nbsp\;<br />\n&nbsp\;
LOCATION:Orientation location: East Orlando Chamber of Commerce 12301 Lake Underhill Road\, Ste 245 Orlando\, FL 32828
UID:e.2008.8657
SEQUENCE:3
DTSTAMP:20260424T234951Z
URL:https://business.eocc.org/events/details/hewfit-nutrition-fitness-challenge-orientation-8657
END:VEVENT

END:VCALENDAR
