BEGIN:VCALENDAR
VERSION:2.0
PRODID:-//ChamberMaster//Event Calendar 2.0//EN
METHOD:PUBLISH
X-PUBLISHED-TTL:P3D
REFRESH-INTERVAL:P3D
CALSCALE:GREGORIAN
BEGIN:VEVENT
DTSTART:20160426T223000Z
DTEND:20160426T233000Z
X-MICROSOFT-CDO-ALLDAYEVENT:FALSE
SUMMARY:Information Meeting for Prospective Students
DESCRIPTION:There are different styles of education for your child to succeed! Come hear the options that are available to you. We offer a university style approach to education entailing three different programs that you can utilize.  On-campus classes where there are no more than 12 students to a class\; online courses\, and a homeschool program. We can help you find what works best for your child to progress successfully
X-ALT-DESC;FMTTYPE=text/html:There are different styles of education for your child to succeed! Come hear the options that are available to you. We offer a university style approach to education entailing three different programs that you can utilize.&nbsp\; On-campus classes where there are no more than 12 students to a class\; online courses\, and a homeschool program. We can help you find what works best for your child to progress successfully<br />\n&nbsp\;
LOCATION:4606 Lake Margaret Dr.\, Orlando\, 32812 (in the back of Calvary Baptist Church).
UID:e.2008.4929
SEQUENCE:3
DTSTAMP:20260426T011308Z
URL:https://business.eocc.org/events/details/information-meeting-for-prospective-students-04-26-2016-4929
END:VEVENT

END:VCALENDAR
