BEGIN:VCALENDAR
VERSION:2.0
PRODID:-//ChamberMaster//Event Calendar 2.0//EN
METHOD:PUBLISH
X-PUBLISHED-TTL:P3D
REFRESH-INTERVAL:P3D
CALSCALE:GREGORIAN
BEGIN:VEVENT
DTSTART:20160712T223000Z
DTEND:20160712T233000Z
X-MICROSOFT-CDO-ALLDAYEVENT:FALSE
SUMMARY:Information Meeting for Prospective Students
DESCRIPTION:Come hear the different options for providing your child with an excellent education\, utilizing on-campus classes\, online courses\, and/or homeschool program.
X-ALT-DESC;FMTTYPE=text/html:Come hear the different options for providing your child with an excellent education\, utilizing on-campus classes\, online courses\, and/or homeschool program.
LOCATION:4606 Lake Margaret Dr.\, Orlando inside of Calvary Baptist Church
UID:e.2008.5064
SEQUENCE:3
DTSTAMP:20260425T213253Z
URL:https://business.eocc.org/events/details/information-meeting-for-prospective-students-07-12-2016-5064
END:VEVENT

END:VCALENDAR
