BEGIN:VCALENDAR
VERSION:2.0
PRODID:-//ChamberMaster//Event Calendar 2.0//EN
METHOD:PUBLISH
X-PUBLISHED-TTL:P3D
REFRESH-INTERVAL:P3D
CALSCALE:GREGORIAN
BEGIN:VEVENT
DTSTART:20160510T223000Z
DTEND:20160510T233000Z
X-MICROSOFT-CDO-ALLDAYEVENT:FALSE
SUMMARY:Information Meeting for Prsopective Students
DESCRIPTION:Experts helping parents find the program that best fits their child: Small on-campus classes that meet 2 to 3 days per week\; online courses\, and/or homeschooling.
X-ALT-DESC;FMTTYPE=text/html:Experts helping parents find the program that best fits their child: Small on-campus classes that meet 2 to 3 days per week\; online courses\, and/or homeschooling.
LOCATION:4606 Lake Margaret Drive Orlando\, 32812
UID:e.2008.4998
SEQUENCE:3
DTSTAMP:20260426T001704Z
URL:https://business.eocc.org/events/details/information-meeting-for-prsopective-students-05-10-2016-4998
END:VEVENT

END:VCALENDAR
