BEGIN:VCALENDAR
VERSION:2.0
PRODID:-//ChamberMaster//Event Calendar 2.0//EN
METHOD:PUBLISH
X-PUBLISHED-TTL:P3D
REFRESH-INTERVAL:P3D
CALSCALE:GREGORIAN
BEGIN:VEVENT
DTSTART:20160505T140000Z
DTEND:20160505T160000Z
X-MICROSOFT-CDO-ALLDAYEVENT:FALSE
SUMMARY:Keiser University Career Fair
DESCRIPTION:Keiser University's Student Services cordially invites you to participate in our Spring 2016 Career Expo.\n\n\n\nCLICK HERE  to Download the Registration form\n\nPlease RSVP by Monday\, April 11\, 2016.\n\n   \n\nSpace is limited\, please complete the registration form attached and email it back to ancooper@keiseruniversity.edu. Your prompt response will ensure a 5 foot by 2   foot table\, 2 chairs\, and promotion of your organizations involvement throughout the campus.\n\n \n\nJob Postings and Resume Referrals - \n\nWhen you register\, please post your jobs on the Online Career Center at http://collegecentral.com/keiser. If you are unable to post your hiring needs online\, please include your job vacancies with the registration\, and we will be happy to post them free of charge.  Regardless\, if you are participating\, in the Career Expo\, you can upload your job postings on the Online Career Center or we can provide you with resumes of potential candidates for your hiring needs. If you have further questions\, please contact Ann Marie Cooper at ancooper@keiseruniversity.edu or (407) 273-5800.\n\n \n\nThank you for your continued support of Keiser University.
X-ALT-DESC;FMTTYPE=text/html:<span style="font-size:14px\;"><strong>Keiser University&rsquo\;s Student Services cordially invites you to participate in our Spring 2016 Career Expo.</strong></span><br />\n<br />\n<strong><a href="https://chambermaster.blob.core.windows.net/userfiles/UserFiles/chambers/2008/File/Member_Flyers/CareerExpoRegistration-2016-Keiser_University.docx.pdf">CLICK HERE</a>&nbsp\; </strong>to<strong> </strong>Download the Registration form<br />\nPlease RSVP by<strong> Monday\, April 11\, 2016.</strong><br />\n&nbsp\;&nbsp\;&nbsp\;<br />\nSpace is limited\, please complete the registration form attached and email it back to <a href="mailto:ancooper@keiseruniversity.edu">ancooper@keiseruniversity.edu</a>. Your prompt response will ensure a 5 foot by 2 &frac12\; foot table\, 2 chairs\, and promotion of your organizations involvement throughout the campus.<br />\n&nbsp\;<br />\n<strong><u>Job Postings and Resume Referrals - </u></strong><br />\nWhen you register\, please post your jobs on the <strong>Online Career Center</strong> at <a href="http://collegecentral.com/keiser">http://collegecentral.com/keiser</a>. If you are unable to post your hiring needs online\, please include your job vacancies with the registration\, and we will be happy to post them free of charge.&nbsp\; Regardless\, if you are participating\, in the Career Expo\, you can upload your job postings on the <strong>Online Career Center</strong> or we can provide you with resumes of potential candidates for your hiring needs. If you have further questions\, please contact Ann Marie Cooper at <a href="mailto:ancooper@keiseruniversity.edu">ancooper@keiseruniversity.edu</a> or (407) 273-5800.<br />\n&nbsp\;<br />\nThank you for your continued support of Keiser University.
LOCATION:Keiser University's Orlando Campus 5600 Lake Underhill Rd\, Orlando\, FL 32807 Building 1\, Room 202 204
UID:e.2008.4915
SEQUENCE:3
DTSTAMP:20260426T001702Z
URL:https://business.eocc.org/events/details/keiser-university-career-fair-05-05-2016-4915
END:VEVENT

END:VCALENDAR
