BEGIN:VCALENDAR
VERSION:2.0
PRODID:-//ChamberMaster//Event Calendar 2.0//EN
METHOD:PUBLISH
X-PUBLISHED-TTL:P3D
REFRESH-INTERVAL:P3D
CALSCALE:GREGORIAN
BEGIN:VEVENT
DTSTART:20160518T160000Z
DTEND:20160518T170000Z
X-MICROSOFT-CDO-ALLDAYEVENT:FALSE
SUMMARY:Lunch & Learn: Walk This Way
DESCRIPTION:Visit the Florida Blue Orlando Center for our monthly Wellness Wednesday to boost your wellness\, hosted in partnership with GuideWell Emergency Doctors! Enjoy free lunch while learning about the benefits of walking\, walking techniques and how to set goals! RSVP required.
X-ALT-DESC;FMTTYPE=text/html:Visit the Florida Blue Orlando Center for our monthly Wellness Wednesday to boost your wellness\, hosted in partnership with GuideWell Emergency Doctors! Enjoy free lunch while learning about the benefits of walking\, walking techniques and how to set goals! RSVP required.
LOCATION:Florida Blue Orlando 434 N. Orlando Ave. Winter Park\, FL 32789
UID:e.2008.4977
SEQUENCE:3
DTSTAMP:20260426T001503Z
URL:https://business.eocc.org/events/details/lunch-learn-walk-this-way-05-18-2016-4977
END:VEVENT

END:VCALENDAR
