BEGIN:VCALENDAR
VERSION:2.0
PRODID:-//ChamberMaster//Event Calendar 2.0//EN
METHOD:PUBLISH
X-PUBLISHED-TTL:P3D
REFRESH-INTERVAL:P3D
CALSCALE:GREGORIAN
BEGIN:VEVENT
DTSTART:20181025T223000Z
DTEND:20181026T013000Z
X-MICROSOFT-CDO-ALLDAYEVENT:FALSE
SUMMARY:Marlow's Tavern Waterford Lakes: Michael David Wine Dinner
DESCRIPTION:Marlow's Tavern Waterford Lakes proudly presents:\n\nThe Michael David Wine Dinner\n\nOctober 25\, 2018 6:30PM $55\n\n\n\nGuest First Plate BURRATA & TOMATO PANZANELLA Vine Ripe Tomatoes\, Whole Milk Burrata\, Extra Virgin Olive Oil\, Balsamic Glaze\, Crusty Ciabatta\, Chiffonade Basil Michael David Sauvignon Blanc '17 GuestSecond Plate Crispy Rhode Island Calamari Flash Fried Calamari\, Pepperoncini\, Roasted Red Bell Peppers\, Fried Capers\, Grated Romano Michael David Chardonnay '16\n\nGuest Third Plate Grilled Center Cut Ribeye Grilled and Seasoned Perfectly\, Crispy Smashed Bliss Potatoes\, Green Beans\, Caramelized Onions\, White Truffle Butter Freakshow Cabernet Sauvignon '15\n\nGuest Sweet Plate Chocolate Cheesecake Milk & Dark Chocolate\, Salted Caramel\, Seasonal Berries Ink Blot Cabernet Franc '15\n\n\n\nReservations: (407) 757-0606
X-ALT-DESC;FMTTYPE=text/html:<div style="text-align: center\;"><strong>Marlow&#39\;s Tavern Waterford Lakes proudly presents:<br />\nThe Michael David Wine Dinner<br />\nOctober 25\, 2018 6:30PM&nbsp\;$55</strong><br />\n<br />\n<strong>Guest First Plate</strong> BURRATA &amp\; TOMATO PANZANELLA Vine Ripe Tomatoes\, Whole Milk Burrata\, Extra Virgin Olive Oil\, Balsamic Glaze\, Crusty Ciabatta\, Chiffonade Basil Michael David Sauvignon Blanc &lsquo\;17 <strong>GuestSecond Plate </strong>Crispy Rhode Island Calamari Flash Fried Calamari\, Pepperoncini\, Roasted Red Bell Peppers\, Fried Capers\, Grated Romano Michael David Chardonnay &lsquo\;16<br />\n<strong>Guest Third Plate </strong>Grilled Center Cut Ribeye Grilled and Seasoned Perfectly\, Crispy Smashed Bliss Potatoes\, Green Beans\, Caramelized Onions\, White Truffle Butter Freakshow Cabernet Sauvignon &lsquo\;15<br />\n<strong>Guest Sweet Plate</strong> Chocolate Cheesecake Milk &amp\; Dark Chocolate\, Salted Caramel\, Seasonal Berries Ink Blot Cabernet Franc &lsquo\;15<br />\n<br />\n<strong>Reservations: (407) 757-0606</strong></div>\n
LOCATION:Marlow's Tavern Waterford Lakes 547 N. Alafaya Trail Orlando\, FL 32828
UID:e.2008.9969
SEQUENCE:3
DTSTAMP:20260424T151837Z
URL:https://business.eocc.org/events/details/marlow-s-tavern-waterford-lakes-michael-david-wine-dinner-9969
END:VEVENT

END:VCALENDAR
