BEGIN:VCALENDAR
VERSION:2.0
PRODID:-//ChamberMaster//Event Calendar 2.0//EN
METHOD:PUBLISH
X-PUBLISHED-TTL:P3D
REFRESH-INTERVAL:P3D
CALSCALE:GREGORIAN
BEGIN:VEVENT
DTSTART:20180908T130000Z
DTEND:20180908T210000Z
X-MICROSOFT-CDO-ALLDAYEVENT:FALSE
SUMMARY:MDA Muscle Walk of Central Florida
DESCRIPTION:This year\, we need you to stand with us at MDA Muscle Walk so we can continue to fuel MDA's efforts to find research breakthroughs across diseases\; to care for kids and adults from day one\; and to empower families in hometowns across America with services and support. Register today: http://www.musclewalkmda.org/centralflorida
X-ALT-DESC;FMTTYPE=text/html:This year\, we need you to stand with us at MDA Muscle Walk so we can continue to fuel MDA&#39\;s efforts to find research breakthroughs across diseases\; to care for kids and adults from day one\; and to empower families in hometowns across America with services and support. Register today: http://www.musclewalkmda.org/centralflorida
LOCATION:Lake Eola Park: 512 E Washington St. Orlando\, FL 32801
UID:e.2008.9925
SEQUENCE:3
DTSTAMP:20260424T162054Z
URL:https://business.eocc.org/events/details/mda-muscle-walk-of-central-florida-9925
END:VEVENT

END:VCALENDAR
