BEGIN:VCALENDAR
VERSION:2.0
PRODID:-//ChamberMaster//Event Calendar 2.0//EN
METHOD:PUBLISH
X-PUBLISHED-TTL:P3D
REFRESH-INTERVAL:P3D
CALSCALE:GREGORIAN
BEGIN:VEVENT
DTSTART:20180410T170000Z
DTEND:20180410T200000Z
X-MICROSOFT-CDO-ALLDAYEVENT:FALSE
SUMMARY:Navigating the Orange County Property Appraiser’s Website
DESCRIPTION:Learn how to navigate our website using advanced search\, how to use our BETA map search\, and more. To register\, please e-mail events@ocpafl.org. We hope to see you there.
X-ALT-DESC;FMTTYPE=text/html:Learn how to navigate our website using advanced search\, how to use our BETA map search\, and more. To register\, please e-mail events@ocpafl.org. We hope to see you there.
LOCATION:Southeast Library 5575 South Semoran Boulevard Orland0\, FL 32822
UID:e.2008.9743
SEQUENCE:3
DTSTAMP:20260424T213502Z
URL:https://business.eocc.org/events/details/navigating-the-orange-county-property-appraiser-s-website-9743
END:VEVENT

END:VCALENDAR
