BEGIN:VCALENDAR
VERSION:2.0
PRODID:-//ChamberMaster//Event Calendar 2.0//EN
METHOD:PUBLISH
X-PUBLISHED-TTL:P3D
REFRESH-INTERVAL:P3D
CALSCALE:GREGORIAN
BEGIN:VEVENT
DTSTART:20140910T220000Z
DTEND:20140911T000000Z
X-MICROSOFT-CDO-ALLDAYEVENT:FALSE
SUMMARY:Navigator Night Networking Event
DESCRIPTION:You are cordially invited...\n\n\n\nNavigator Night is the Premier after hours networking event for Lake Nona\, Medical City and surrounding areas\, presented monthly by The Navigator Magazine.\n\n\n\n * COMPLIMENTARY ADMISSION * COMPLIMENTARY APPETIZERS * LIVE MUSIC * Enter to Win a FREE AD! * DOOR PRIZES and GUEST SPONSOR TABLES!\n\n\n\n***Come enjoy GREAT FOOD and NETWORKING in the Lake Nona Community!*** \n\n\n\nPlease join us
X-ALT-DESC;FMTTYPE=text/html:<div style="text-align: justify\;">You are cordially invited...<br />\n<br />\nNavigator Night is the Premier after hours networking event for Lake Nona\, Medical City and surrounding areas\, presented monthly by The Navigator Magazine.<br />\n<br />\n&nbsp\;* COMPLIMENTARY ADMISSION * COMPLIMENTARY APPETIZERS * LIVE MUSIC * Enter to Win a FREE AD! * DOOR PRIZES and GUEST SPONSOR TABLES!<br />\n<br />\n***Come enjoy GREAT FOOD and NETWORKING in the Lake Nona Community!***&nbsp\;<br />\n<br />\nPlease join us&hellip\;<br />\n<br />\n&nbsp\;</div>\n
LOCATION:Nona Blue Modern Tavern Lake Nona Village 9685 Lake Nona Village Place\, Orlando\, FL 32827 Located off Narcoossee Rd\, South of the 528
UID:e.2008.1623
SEQUENCE:3
DTSTAMP:20260421T101307Z
URL:https://business.eocc.org/events/details/navigator-night-networking-event-09-10-2014-1623
END:VEVENT

END:VCALENDAR
