BEGIN:VCALENDAR
VERSION:2.0
PRODID:-//ChamberMaster//Event Calendar 2.0//EN
METHOD:PUBLISH
X-PUBLISHED-TTL:P3D
REFRESH-INTERVAL:P3D
CALSCALE:GREGORIAN
BEGIN:VEVENT
DTSTART:20200217T163000Z
DTEND:20200217T180000Z
X-MICROSOFT-CDO-ALLDAYEVENT:FALSE
SUMMARY:One Year Anniversary Celebration - PDQ Waterford Lakes
DESCRIPTION:Join us to Celebrate the 1 year Anniversary of \n\nPDQ Waterford Lakes!
X-ALT-DESC;FMTTYPE=text/html:Join us to Celebrate the 1 year Anniversary of&nbsp\;<br />\nPDQ Waterford Lakes!
LOCATION:PDQ Waterford Lakes
UID:e.2008.12342
SEQUENCE:3
DTSTAMP:20260422T230842Z
URL:https://business.eocc.org/events/details/one-year-anniversary-celebration-pdq-waterford-lakes-12342
END:VEVENT

END:VCALENDAR
