BEGIN:VCALENDAR
VERSION:2.0
PRODID:-//ChamberMaster//Event Calendar 2.0//EN
METHOD:PUBLISH
X-PUBLISHED-TTL:P3D
REFRESH-INTERVAL:P3D
CALSCALE:GREGORIAN
BEGIN:VEVENT
DTSTART:20180808T130000Z
DTEND:20180808T200000Z
X-MICROSOFT-CDO-ALLDAYEVENT:FALSE
SUMMARY:Orange County Commission District 4 - LIHEAP Outreach
DESCRIPTION:Assistance with power bill.\n\nNo appointment needed (for this one day only).\n\nSee flyer for more info.
X-ALT-DESC;FMTTYPE=text/html:Assistance with power bill.<br />\nNo appointment needed (for this one day only).<br />\nSee flyer for more info.
LOCATION:East Orange Community Center 12050 E. Colonial Dr. Orlando\, FL 32826
UID:e.2008.9904
SEQUENCE:3
DTSTAMP:20260424T171320Z
URL:https://business.eocc.org/events/details/orange-county-commission-district-4-liheap-outreach-9904
END:VEVENT

END:VCALENDAR
